BEGIN:VCALENDAR
VERSION:2.0
PRODID:-//Atelier Siegen - ECPv6.15.20//NONSGML v1.0//EN
CALSCALE:GREGORIAN
METHOD:PUBLISH
X-ORIGINAL-URL:https://atelier-siegen.de
X-WR-CALDESC:Veranstaltungen für Atelier Siegen
REFRESH-INTERVAL;VALUE=DURATION:PT1H
X-Robots-Tag:noindex
X-PUBLISHED-TTL:PT1H
BEGIN:VTIMEZONE
TZID:Europe/Berlin
BEGIN:DAYLIGHT
TZOFFSETFROM:+0100
TZOFFSETTO:+0200
TZNAME:CEST
DTSTART:20240331T010000
END:DAYLIGHT
BEGIN:STANDARD
TZOFFSETFROM:+0200
TZOFFSETTO:+0100
TZNAME:CET
DTSTART:20241027T010000
END:STANDARD
BEGIN:DAYLIGHT
TZOFFSETFROM:+0100
TZOFFSETTO:+0200
TZNAME:CEST
DTSTART:20250330T010000
END:DAYLIGHT
BEGIN:STANDARD
TZOFFSETFROM:+0200
TZOFFSETTO:+0100
TZNAME:CET
DTSTART:20251026T010000
END:STANDARD
BEGIN:DAYLIGHT
TZOFFSETFROM:+0100
TZOFFSETTO:+0200
TZNAME:CEST
DTSTART:20260329T010000
END:DAYLIGHT
BEGIN:STANDARD
TZOFFSETFROM:+0200
TZOFFSETTO:+0100
TZNAME:CET
DTSTART:20261025T010000
END:STANDARD
END:VTIMEZONE
BEGIN:VEVENT
DTSTART;TZID=Europe/Berlin:20251008T170000
DTEND;TZID=Europe/Berlin:20251008T190000
DTSTAMP:20260424T123723
CREATED:20250715T144717Z
LAST-MODIFIED:20250923T101204Z
UID:316-1759942800-1759950000@atelier-siegen.de
SUMMARY:Offenes Atelier
DESCRIPTION:Offenes Atelier – Freies Arbeiten mit künstlerischer Begleitung \nIn meinem offenen Atelier hast du die Möglichkeit\, an deinen eigenen Projekten zu arbeiten – ganz in deinem Tempo und nach deinen Ideen. \nDie Schwerpunkte liegen dabei auf Acryl-Malerei\, Mixed-Media \, Collage: du entscheidest\, was du vertiefen möchtest. \nIch begleite dich individuell mit Anregungen\, Tipps und künstlerischer Anleitung – genau dann\, wenn du sie brauchst. So kannst du deine Kreativität entfalten und zugleich von fachlichem Input profitieren. \nDas offene Atelier eignet sich sowohl für Anfänger*innen\, die erste Schritte ausprobieren möchten\, als auch für Fortgeschrittene\, die ihre Projekte weiterentwickeln wollen. \n📍 Atelier Austraße 34\, 57076 Siegen-Weidenau📆 ab Oktober immer mittwochs | 17–19 Uhr🎨 Fokus: Acrylmalerei & Mixed Media📌 Anmeldung erforderlich – begrenzte Plätze🧰 Materialien können mitgebracht oder vor Ort erworben werden \nHinweise: \nBitte denke daran\, Kleidung zu tragen\, die schmutzig werden darf – wir arbeiten mit Farben und Strukturmaterialien\, die Spuren hinterlassen können. \nDas Atelier befindet sich in einem alten\, denkmalgeschützten Gebäude und ist leider nicht barrierefrei zugänglich (Treppen\, keine Aufzüge).
URL:https://atelier-siegen.de/event/offenes-atelier-5/
LOCATION:Atelier Siegen-Weidenau\, Austraße 34\, Siegen\, 57076\, Germany
ATTACH;FMTTYPE=image/jpeg:https://atelier-siegen.de/wp-content/uploads/2025/07/20250914_131500-scaled-e1757923443588.jpg
END:VEVENT
BEGIN:VEVENT
DTSTART;TZID=Europe/Berlin:20251010T180000
DTEND;TZID=Europe/Berlin:20251010T210000
DTSTAMP:20260424T123723
CREATED:20250901T155116Z
LAST-MODIFIED:20250921T110914Z
UID:558-1760119200-1760130000@atelier-siegen.de
SUMMARY:Brush Hour - Struktur x Abstrakt Workshop
DESCRIPTION:Raus aus dem Alltag\, rein in den Flow\nGönn dir eine kreative Auszeit und gestalte in entspannter Atmosphäre dein eigenes abstraktes Kunstwerk.Mit Acrylfarben\, Collage-Elementen\, Strukturen und Schichten erschaffst du etwas ganz Persönliches – frei von Druck\, mit oder ohne Vorkenntnisse. \nDas erwartet dich: \nAlle Materialien sind inklusive und vor Ort vorhanden \nGetränke und kleine Snacks sind im Preis enthalten \nKreative Atmosphäre mit entspannter Musik \nPersönliche Anleitung und Inspiration durch Julia – kein Vorwissen nötig \nHinweise: \nBitte trage Kleidung\, die schmutzig werden darf\, da wir mit Farben und Strukturmaterialien arbeiten\, die Spuren hinterlassen können. \nDas Atelier befindet sich in einem alten\, denkmalgeschützten Gebäude und ist leider nicht barrierefrei zugänglich (Treppen\, kein Aufzug).
URL:https://atelier-siegen.de/event/brush-hour-struktur-x-abstrakt-workshop/
LOCATION:Atelier Siegen-Weidenau\, Austraße 34\, Siegen\, 57076\, Germany
ATTACH;FMTTYPE=image/jpeg:https://atelier-siegen.de/wp-content/uploads/2025/07/143-S-e1752573710619.jpg
END:VEVENT
BEGIN:VEVENT
DTSTART;TZID=Europe/Berlin:20251029T170000
DTEND;TZID=Europe/Berlin:20251029T190000
DTSTAMP:20260424T123723
CREATED:20250715T144857Z
LAST-MODIFIED:20251009T075146Z
UID:319-1761757200-1761764400@atelier-siegen.de
SUMMARY:Offenes Atelier
DESCRIPTION:Offenes Atelier – Freies Arbeiten mit künstlerischer Begleitung \nIn meinem offenen Atelier hast du die Möglichkeit\, an deinen eigenen Projekten zu arbeiten – ganz in deinem Tempo und nach deinen Ideen. \nDie Schwerpunkte liegen dabei auf Acryl-Malerei\, Mixed-Media \, Collage: du entscheidest\, was du vertiefen möchtest. \nIch begleite dich individuell mit Anregungen\, Tipps und künstlerischer Anleitung – genau dann\, wenn du sie brauchst. So kannst du deine Kreativität entfalten und zugleich von fachlichem Input profitieren. \nDas offene Atelier eignet sich sowohl für Anfänger*innen\, die erste Schritte ausprobieren möchten\, als auch für Fortgeschrittene\, die ihre Projekte weiterentwickeln wollen. \n📍 Atelier Austraße 34\, 57076 Siegen-Weidenau📆 ab Oktober immer mittwochs | 17–19 Uhr🎨 Fokus: Acrylmalerei & Mixed Media📌 Anmeldung erforderlich – begrenzte Plätze🧰 Materialien können mitgebracht oder vor Ort erworben werden \nHinweise: \nBitte denke daran\, Kleidung zu tragen\, die schmutzig werden darf – wir arbeiten mit Farben und Strukturmaterialien\, die Spuren hinterlassen können. \nDas Atelier befindet sich in einem alten\, denkmalgeschützten Gebäude und ist leider nicht barrierefrei zugänglich (Treppen\, keine Aufzüge).
URL:https://atelier-siegen.de/event/offenes-atelier-6/
LOCATION:Atelier Siegen-Weidenau\, Austraße 34\, Siegen\, 57076\, Germany
ATTACH;FMTTYPE=image/jpeg:https://atelier-siegen.de/wp-content/uploads/2025/07/DSC06844-scaled-e1759682007742.jpg
END:VEVENT
BEGIN:VEVENT
DTSTART;TZID=Europe/Berlin:20251031T180000
DTEND;TZID=Europe/Berlin:20251101T180000
DTSTAMP:20260424T123723
CREATED:20250907T094754Z
LAST-MODIFIED:20250909T080459Z
UID:570-1761933600-1762020000@atelier-siegen.de
SUMMARY:Brush Hour - Acryl x Mixed Media
DESCRIPTION:In diesem zweitägigen Workshop tauchen wir in die Welt der experimentellen Malerei ein. \nAcrylfarben verbinden sich mit verschiedensten Materialien – z. B. Beton\, Gips oder Collage-Elementen – zu spannenden Strukturen\, Kontrasten und lebendigen Bildwelten. \nWir experimentieren mit Schichtungen\, Überlagerungen und unterschiedlichen Techniken\, sodass ganz individuelle Werke entstehen. \nTermine: \nFreitag\, 31.10.2025 · 18:00 – 21:00 Uhr und \nSamstag\, 01.11.2025 · 15:00 – 18:00 Uhr \nKosten: 119 €(Material inklusive\, außer Keilrahmen – bitte selbst mitbringen\, max. Größe 80 × 80 cm. Bitte auf gute Qualität achten.) \nGeeignet für: Einsteiger:innen mit Vorkenntnissen und Fortgeschrittene \nHinweise: \nBitte denke daran\, Kleidung zu tragen\, die schmutzig werden darf – wir arbeiten mit Farben und Strukturmaterialien\, die Spuren hinterlassen können. \nDas Atelier befindet sich in einem alten\, denkmalgeschützten Gebäude und ist leider nicht barrierefrei zugänglich (Treppen\, keine Aufzüge).
URL:https://atelier-siegen.de/event/brush-hour-acryl-x-mixed-media/
LOCATION:Atelier Siegen-Weidenau\, Austraße 34\, Siegen\, 57076\, Germany
ATTACH;FMTTYPE=image/jpeg:https://atelier-siegen.de/wp-content/uploads/2025/07/145-S-e1757238348111.jpg
END:VEVENT
END:VCALENDAR