BEGIN:VCALENDAR
VERSION:2.0
PRODID:-//Atelier Siegen - ECPv6.15.20//NONSGML v1.0//EN
CALSCALE:GREGORIAN
METHOD:PUBLISH
X-WR-CALNAME:Atelier Siegen
X-ORIGINAL-URL:https://atelier-siegen.de
X-WR-CALDESC:Veranstaltungen für Atelier Siegen
REFRESH-INTERVAL;VALUE=DURATION:PT1H
X-Robots-Tag:noindex
X-PUBLISHED-TTL:PT1H
BEGIN:VTIMEZONE
TZID:Europe/Berlin
BEGIN:DAYLIGHT
TZOFFSETFROM:+0100
TZOFFSETTO:+0200
TZNAME:CEST
DTSTART:20250330T010000
END:DAYLIGHT
BEGIN:STANDARD
TZOFFSETFROM:+0200
TZOFFSETTO:+0100
TZNAME:CET
DTSTART:20251026T010000
END:STANDARD
BEGIN:DAYLIGHT
TZOFFSETFROM:+0100
TZOFFSETTO:+0200
TZNAME:CEST
DTSTART:20260329T010000
END:DAYLIGHT
BEGIN:STANDARD
TZOFFSETFROM:+0200
TZOFFSETTO:+0100
TZNAME:CET
DTSTART:20261025T010000
END:STANDARD
BEGIN:DAYLIGHT
TZOFFSETFROM:+0100
TZOFFSETTO:+0200
TZNAME:CEST
DTSTART:20270328T010000
END:DAYLIGHT
BEGIN:STANDARD
TZOFFSETFROM:+0200
TZOFFSETTO:+0100
TZNAME:CET
DTSTART:20271031T010000
END:STANDARD
END:VTIMEZONE
BEGIN:VEVENT
DTSTART;TZID=Europe/Berlin:20260612T180000
DTEND;TZID=Europe/Berlin:20260612T210000
DTSTAMP:20260422T102429
CREATED:20260208T151526Z
LAST-MODIFIED:20260226T123101Z
UID:1228-1781287200-1781298000@atelier-siegen.de
SUMMARY:Brush Hour - Acryl X Collage
DESCRIPTION:Entdecke die Freude an Acrylfarbe und Collage! In diesem Workshop lernst du\, Papier und Farbe zu verbinden\, spannende Bildkompositionen zu gestalten und Schritt für Schritt deine eigene Collagetechnik zu entwickeln. \nDer Fokus liegt auf dem Erlernen und Ausprobieren von Collage-Techniken – frei\, spielerisch und ohne Leistungsdruck. Acrylfarbe unterstützt deine Collage\, setzt Akzente und bringt Tiefe ins Bild. \nDieser Workshop bietet einen entspannten Rahmen\, um Neues zu entdecken\, sich inspirieren zu lassen und kreativ zu experimentieren. Du wirst individuell begleitet und erhältst Tipps und Impulse\, die deinen eigenen Prozess unterstützen. \nRahmen\n\nEinführung in Collagetechniken und Acrylmalerei\nArbeiten mit Papier\, Acrylfarbe und Collagematerialien\nPersönliche Begleitung und praktische Tipps\nRuhige\, kreative Atelier-Atmosphäre\n\nAlle Materialien sind inklusive\, außer Keilrahmen  (bitte mitbringen: 1–2 Stück\, max. 60 x 60 cm) \nHinweise \nBitte trage Kleidung\, die schmutzig werden darf. \nDas Atelier befindet sich in einem denkmalgeschützten Gebäude und ist leider nicht barrierefrei zugänglich (Treppen\, kein Aufzug). \nDer Workshop richtet sich an Erwachsene ab 18 Jahren.\nEs werden keine Kurse für Kinder und Jugendliche angeboten.
URL:https://atelier-siegen.de/event/brush-hour-acryl-x-collage/
LOCATION:Atelier Siegen-Weidenau\, Austraße 34\, Siegen\, 57076\, Germany
ATTACH;FMTTYPE=image/jpeg:https://atelier-siegen.de/wp-content/uploads/2026/02/155-edit-20260224174426.jpg
END:VEVENT
END:VCALENDAR