BEGIN:VCALENDAR
VERSION:2.0
PRODID:-//Atelier Siegen - ECPv6.15.20//NONSGML v1.0//EN
CALSCALE:GREGORIAN
METHOD:PUBLISH
X-WR-CALNAME:Atelier Siegen
X-ORIGINAL-URL:https://atelier-siegen.de
X-WR-CALDESC:Veranstaltungen für Atelier Siegen
REFRESH-INTERVAL;VALUE=DURATION:PT1H
X-Robots-Tag:noindex
X-PUBLISHED-TTL:PT1H
BEGIN:VTIMEZONE
TZID:Europe/Berlin
BEGIN:DAYLIGHT
TZOFFSETFROM:+0100
TZOFFSETTO:+0200
TZNAME:CEST
DTSTART:20250330T010000
END:DAYLIGHT
BEGIN:STANDARD
TZOFFSETFROM:+0200
TZOFFSETTO:+0100
TZNAME:CET
DTSTART:20251026T010000
END:STANDARD
BEGIN:DAYLIGHT
TZOFFSETFROM:+0100
TZOFFSETTO:+0200
TZNAME:CEST
DTSTART:20260329T010000
END:DAYLIGHT
BEGIN:STANDARD
TZOFFSETFROM:+0200
TZOFFSETTO:+0100
TZNAME:CET
DTSTART:20261025T010000
END:STANDARD
BEGIN:DAYLIGHT
TZOFFSETFROM:+0100
TZOFFSETTO:+0200
TZNAME:CEST
DTSTART:20270328T010000
END:DAYLIGHT
BEGIN:STANDARD
TZOFFSETFROM:+0200
TZOFFSETTO:+0100
TZNAME:CET
DTSTART:20271031T010000
END:STANDARD
END:VTIMEZONE
BEGIN:VEVENT
DTSTART;TZID=Europe/Berlin:20260529T170000
DTEND;TZID=Europe/Berlin:20260530T170000
DTSTAMP:20260420T172514
CREATED:20260208T163334Z
LAST-MODIFIED:20260226T122922Z
UID:1236-1780074000-1780160400@atelier-siegen.de
SUMMARY:Brush Hour - Acryl X Mixed Media
DESCRIPTION:Experimentelle Malerei – Farben\, Schichten\, Strukturen \nIn diesem zweitägigen Workshop entdecken wir gemeinsam die Welt der experimentellen Malerei. Acrylfarben verbinden sich mit spannenden Materialien wie Beton\, Gips\, Zement oder Collage-Elementen und öffnen neue Wege\, mit Struktur\, Tiefe und Kontrast zu spielen. \nWir schichten\, überlagern\, spachteln\, malen und lassen uns überraschen\, was dabei entsteht. Dabei geht es weniger um das perfekte Ergebnis\, sondern um das Erleben des kreativen Prozesses – das freie Arbeiten und das intuitive Entstehenlassen. Ganz nebenbei entstehen individuelle\, ausdrucksstarke Werke mit persönlicher Handschrift. \nTermine:Freitag\, 29. Mai 2026 · 17:00 – 20:00 UhrSamstag\, 30. Mai 2026 · 14:00 – 17:00 Uhr \nRahmen \n\nVertieftes Arbeiten mit Acryl und Mixed Media\nMehrschichtige\, komplexere Bildprozesse\nZwei Tage Zeit für Entwicklung und Überarbeitung\nIntensive Begleitung und künstlerische Impulse\n\nAlle Materialien sind inklusive\, außer Keilrahmen – bitte selbst mitbringen\, 1 bis 2 Stück max. Größe 80 × 80 cm. Achte auf gute Qualität. \nGeeignet für:Einsteiger:innen mit ersten Erfahrungen und Fortgeschrittene\, die Lust auf freies\, experimentelles Arbeiten haben. \nHinweise: \nBitte trage Kleidung\, die schmutzig werden darf. \nDas Atelier befindet sich in einem denkmalgeschützten Gebäude und ist leider nicht barrierefrei zugänglich (Treppen\, kein Aufzug). \nDer Workshop richtet sich an Erwachsene ab 18 Jahren.\nVorerfahrung im künstlerischen Arbeiten wird empfohlen.
URL:https://atelier-siegen.de/event/brush-hour-acryl-x-mixed-media-3/
LOCATION:Atelier Siegen-Weidenau\, Austraße 34\, Siegen\, 57076\, Germany
ATTACH;FMTTYPE=image/jpeg:https://atelier-siegen.de/wp-content/uploads/2026/02/166-edit-20260224174333-scaled.jpg
END:VEVENT
END:VCALENDAR