BEGIN:VCALENDAR
VERSION:2.0
PRODID:-//Atelier Siegen - ECPv6.15.20//NONSGML v1.0//EN
CALSCALE:GREGORIAN
METHOD:PUBLISH
X-ORIGINAL-URL:https://atelier-siegen.de
X-WR-CALDESC:Veranstaltungen für Atelier Siegen
REFRESH-INTERVAL;VALUE=DURATION:PT1H
X-Robots-Tag:noindex
X-PUBLISHED-TTL:PT1H
BEGIN:VTIMEZONE
TZID:Europe/Berlin
BEGIN:DAYLIGHT
TZOFFSETFROM:+0100
TZOFFSETTO:+0200
TZNAME:CEST
DTSTART:20250330T010000
END:DAYLIGHT
BEGIN:STANDARD
TZOFFSETFROM:+0200
TZOFFSETTO:+0100
TZNAME:CET
DTSTART:20251026T010000
END:STANDARD
BEGIN:DAYLIGHT
TZOFFSETFROM:+0100
TZOFFSETTO:+0200
TZNAME:CEST
DTSTART:20260329T010000
END:DAYLIGHT
BEGIN:STANDARD
TZOFFSETFROM:+0200
TZOFFSETTO:+0100
TZNAME:CET
DTSTART:20261025T010000
END:STANDARD
BEGIN:DAYLIGHT
TZOFFSETFROM:+0100
TZOFFSETTO:+0200
TZNAME:CEST
DTSTART:20270328T010000
END:DAYLIGHT
BEGIN:STANDARD
TZOFFSETFROM:+0200
TZOFFSETTO:+0100
TZNAME:CET
DTSTART:20271031T010000
END:STANDARD
END:VTIMEZONE
BEGIN:VEVENT
DTSTART;TZID=Europe/Berlin:20260415T170000
DTEND;TZID=Europe/Berlin:20260415T190000
DTSTAMP:20260420T160529
CREATED:20260208T125315Z
LAST-MODIFIED:20260315T163730Z
UID:1211-1776272400-1776279600@atelier-siegen.de
SUMMARY:Offenes Atelier: Atelierzeit - Acryl · Abstrakte Malerei · Mixed Media
DESCRIPTION:Die Atelierzeit richtet sich an Fortgeschrittene mit Interesse an abstrakter\, nicht-gegenständlicher Malerei. Im Fokus stehen freies\, prozessorientiertes Arbeiten mit Acryl\, Mixed Media\, Schichtung und Material. \nEs handelt sich nicht um einen klassischen Malkurs\, sondern um gemeinsame Atelierzeit: Jede*r arbeitet im eigenen Tempo an eigenen Arbeiten. \nAustausch\, gegenseitige Inspiration und das Weiterentwickeln der eigenen abstrakten Bildsprache stehen im Vordergrund. \nGegenständliche oder illustrative Motivmalerei steht hier nicht im Fokus.Angesprochen sind Menschen\, die regelmäßig malen möchten und Lust haben\, ihre eigene abstrakte Bildsprache im Dialog mit anderen weiterzuentwickeln. \nMaterialien sind im Angebot nicht enthalten. \nRahmenbedingungen:📍 Atelier Austraße 34\, 57076 Siegen-Weidenau📆 mittwochs | 17–19 Uhr📌 Anmeldung erforderlich (begrenzte Plätze)🧰 Eigene Materialien und geeignete Kleidung bitte mitbringen \nDas Atelier befindet sich in einem denkmalgeschützten Gebäude und ist leider nicht barrierefrei zugänglich.Das Angebot richtet sich an Erwachsene.
URL:https://atelier-siegen.de/event/atelierzeit-acryl-%c2%b7-abstrakte-malerei-%c2%b7-mixed-media/
LOCATION:Atelier Siegen-Weidenau\, Austraße 34\, Siegen\, 57076\, Germany
ATTACH;FMTTYPE=image/jpeg:https://atelier-siegen.de/wp-content/uploads/2025/10/DSC07110-scaled-e1770555123806.jpg
END:VEVENT
END:VCALENDAR