BEGIN:VCALENDAR
VERSION:2.0
PRODID:-//Atelier Siegen - ECPv6.15.20//NONSGML v1.0//EN
CALSCALE:GREGORIAN
METHOD:PUBLISH
X-WR-CALNAME:Atelier Siegen
X-ORIGINAL-URL:https://atelier-siegen.de
X-WR-CALDESC:Veranstaltungen für Atelier Siegen
REFRESH-INTERVAL;VALUE=DURATION:PT1H
X-Robots-Tag:noindex
X-PUBLISHED-TTL:PT1H
BEGIN:VTIMEZONE
TZID:Europe/Berlin
BEGIN:DAYLIGHT
TZOFFSETFROM:+0100
TZOFFSETTO:+0200
TZNAME:CEST
DTSTART:20250330T010000
END:DAYLIGHT
BEGIN:STANDARD
TZOFFSETFROM:+0200
TZOFFSETTO:+0100
TZNAME:CET
DTSTART:20251026T010000
END:STANDARD
BEGIN:DAYLIGHT
TZOFFSETFROM:+0100
TZOFFSETTO:+0200
TZNAME:CEST
DTSTART:20260329T010000
END:DAYLIGHT
BEGIN:STANDARD
TZOFFSETFROM:+0200
TZOFFSETTO:+0100
TZNAME:CET
DTSTART:20261025T010000
END:STANDARD
BEGIN:DAYLIGHT
TZOFFSETFROM:+0100
TZOFFSETTO:+0200
TZNAME:CEST
DTSTART:20270328T010000
END:DAYLIGHT
BEGIN:STANDARD
TZOFFSETFROM:+0200
TZOFFSETTO:+0100
TZNAME:CET
DTSTART:20271031T010000
END:STANDARD
END:VTIMEZONE
BEGIN:VEVENT
DTSTART;TZID=Europe/Berlin:20260206T180000
DTEND;TZID=Europe/Berlin:20260206T210000
DTSTAMP:20260422T145145
CREATED:20251123T165226Z
LAST-MODIFIED:20260125T084734Z
UID:863-1770400800-1770411600@atelier-siegen.de
SUMMARY:Brush Hour - Struktur x Abstrakt Workshop
DESCRIPTION:Raus aus dem Alltag\, rein in den Flow\nGönn dir eine kreative Auszeit und gestalte in entspannter Atmosphäre dein eigenes abstraktes Kunstwerk.Mit Acrylfarben\, Collage-Elementen\, Strukturen und Schichten erschaffst du etwas ganz Persönliches – frei von Druck; mit oder ohne Vorkenntnisse. \nDas erwartet dich: \nAlle Materialien sind inklusive und vor Ort vorhanden \nKreative Atmosphäre mit entspannter Musik \nPersönliche Anleitung und Inspiration durch Julia – kein Vorwissen nötig \nKreativer Austausch und gemeinsames Malen in inspirierender Gemeinschaft \nHinweise: \nBitte trage Kleidung\, die schmutzig werden darf\, da wir mit Farben und Strukturmaterialien arbeiten\, die Spuren hinterlassen können. \nDas Atelier befindet sich in einem alten\, denkmalgeschützten Gebäude und ist leider nicht barrierefrei zugänglich (Treppen\, kein Aufzug). \nMeine Kurse und Workshops richten sich an Erwachsene. Ich biete keine Kurse für Kinder und Jugendliche an.
URL:https://atelier-siegen.de/event/brush-hour-struktur-x-abstrakt-workshop-2/
LOCATION:Atelier Siegen-Weidenau\, Austraße 34\, Siegen\, 57076\, Germany
ATTACH;FMTTYPE=image/jpeg:https://atelier-siegen.de/wp-content/uploads/2025/07/20250601_092631-scaled-e1763916717805.jpg
END:VEVENT
END:VCALENDAR