BEGIN:VCALENDAR
VERSION:2.0
PRODID:-//Atelier Siegen - ECPv6.15.20//NONSGML v1.0//EN
CALSCALE:GREGORIAN
METHOD:PUBLISH
X-WR-CALNAME:Atelier Siegen
X-ORIGINAL-URL:https://atelier-siegen.de
X-WR-CALDESC:Veranstaltungen für Atelier Siegen
REFRESH-INTERVAL;VALUE=DURATION:PT1H
X-Robots-Tag:noindex
X-PUBLISHED-TTL:PT1H
BEGIN:VTIMEZONE
TZID:Europe/Berlin
BEGIN:DAYLIGHT
TZOFFSETFROM:+0100
TZOFFSETTO:+0200
TZNAME:CEST
DTSTART:20250330T010000
END:DAYLIGHT
BEGIN:STANDARD
TZOFFSETFROM:+0200
TZOFFSETTO:+0100
TZNAME:CET
DTSTART:20251026T010000
END:STANDARD
BEGIN:DAYLIGHT
TZOFFSETFROM:+0100
TZOFFSETTO:+0200
TZNAME:CEST
DTSTART:20260329T010000
END:DAYLIGHT
BEGIN:STANDARD
TZOFFSETFROM:+0200
TZOFFSETTO:+0100
TZNAME:CET
DTSTART:20261025T010000
END:STANDARD
BEGIN:DAYLIGHT
TZOFFSETFROM:+0100
TZOFFSETTO:+0200
TZNAME:CEST
DTSTART:20270328T010000
END:DAYLIGHT
BEGIN:STANDARD
TZOFFSETFROM:+0200
TZOFFSETTO:+0100
TZNAME:CET
DTSTART:20271031T010000
END:STANDARD
END:VTIMEZONE
BEGIN:VEVENT
DTSTART;TZID=Europe/Berlin:20260204T170000
DTEND;TZID=Europe/Berlin:20260204T190000
DTSTAMP:20260422T145132
CREATED:20251123T180412Z
LAST-MODIFIED:20260201T170017Z
UID:881-1770224400-1770231600@atelier-siegen.de
SUMMARY:Offenes Atelier
DESCRIPTION:Offenes Atelier – Freies Arbeiten mit künstlerischer Begleitung \nIn meinem offenen Atelier hast du die Möglichkeit\, an deinen eigenen Projekten zu arbeiten – ganz in deinem Tempo und nach deinen Ideen. \nDie Schwerpunkte liegen dabei auf Acryl-Malerei\, Mixed-Media \, Collage: du entscheidest\, was du vertiefen möchtest. \nIch begleite dich individuell mit Anregungen\, Tipps und künstlerischer Anleitung – genau dann\, wenn du sie brauchst. So kannst du deine Kreativität entfalten und zugleich von fachlichem Input profitieren. \nDas offene Atelier eignet sich sowohl für Einsteiger*innen mit Vorkenntnissen\, als auch für Fortgeschrittene\, die ihre Projekte weiterentwickeln wollen. \n Atelier Austraße 34\, 57076 Siegen-Weidenau mittwochs | 17–19 Uhr Fokus: Acrylmalerei & Mixed Media Anmeldung erforderlich – begrenzte Plätze\, bitte kontaktiere mich\, wenn du teilnehmen möchtest! Du bringst deine Materialien selber mit \nHinweise: \nBitte denke daran\, Kleidung zu tragen\, die schmutzig werden darf – wir arbeiten mit Farben und Strukturmaterialien\, die Spuren hinterlassen können. \nDas Atelier befindet sich in einem alten\, denkmalgeschützten Gebäude und ist leider nicht barrierefrei zugänglich (Treppen\, keine Aufzüge). \nMeine Kurse und Workshops richten sich an Erwachsene. Ich biete keine Kurse für Kinder und Jugendliche an.
URL:https://atelier-siegen.de/event/offenes-atelier-15/
LOCATION:Atelier Siegen-Weidenau\, Austraße 34\, Siegen\, 57076\, Germany
ATTACH;FMTTYPE=image/jpeg:https://atelier-siegen.de/wp-content/uploads/2025/07/DSC06844-scaled-e1759682007742.jpg
END:VEVENT
END:VCALENDAR