BEGIN:VCALENDAR
VERSION:2.0
PRODID:-//Atelier Siegen - ECPv6.15.20//NONSGML v1.0//EN
CALSCALE:GREGORIAN
METHOD:PUBLISH
X-ORIGINAL-URL:https://atelier-siegen.de
X-WR-CALDESC:Veranstaltungen für Atelier Siegen
REFRESH-INTERVAL;VALUE=DURATION:PT1H
X-Robots-Tag:noindex
X-PUBLISHED-TTL:PT1H
BEGIN:VTIMEZONE
TZID:Europe/Berlin
BEGIN:DAYLIGHT
TZOFFSETFROM:+0100
TZOFFSETTO:+0200
TZNAME:CEST
DTSTART:20240331T010000
END:DAYLIGHT
BEGIN:STANDARD
TZOFFSETFROM:+0200
TZOFFSETTO:+0100
TZNAME:CET
DTSTART:20241027T010000
END:STANDARD
BEGIN:DAYLIGHT
TZOFFSETFROM:+0100
TZOFFSETTO:+0200
TZNAME:CEST
DTSTART:20250330T010000
END:DAYLIGHT
BEGIN:STANDARD
TZOFFSETFROM:+0200
TZOFFSETTO:+0100
TZNAME:CET
DTSTART:20251026T010000
END:STANDARD
BEGIN:DAYLIGHT
TZOFFSETFROM:+0100
TZOFFSETTO:+0200
TZNAME:CEST
DTSTART:20260329T010000
END:DAYLIGHT
BEGIN:STANDARD
TZOFFSETFROM:+0200
TZOFFSETTO:+0100
TZNAME:CET
DTSTART:20261025T010000
END:STANDARD
END:VTIMEZONE
BEGIN:VEVENT
DTSTART;TZID=Europe/Berlin:20250908T170000
DTEND;TZID=Europe/Berlin:20250908T190000
DTSTAMP:20260424T155359
CREATED:20250715T095035Z
LAST-MODIFIED:20250901T153910Z
UID:260-1757350800-1757358000@atelier-siegen.de
SUMMARY:Offenes Atelier
DESCRIPTION:🎨 Offenes Atelier Du möchtest mit Acrylfarben arbeiten\, Mixed Media ausprobieren und dich kreativ entfalten? \nDann komm ins offene Atelier – dein Raum für künstlerisches Arbeiten in entspannter Atmosphäre. 🖌️✨ \n📍 Atelier Austraße 34\, 57076 Siegen-Weidenau📆 Jeden Montag | 17–19 Uhr🎨 Fokus: Acrylmalerei & Mixed Media📌 Anmeldung erforderlich – begrenzte Plätze🧰 Materialien können mitgebracht oder vor Ort erworben werden \nBitte denke daran\, Kleidung zu tragen\, die schmutzig werden darf – wir arbeiten mit Farben und Strukturmaterialien\, die Spuren hinterlassen können. \n👉 Hinweis: Das Atelier befindet sich in einem alten\, denkmalgeschützten Gebäude und ist leider nicht barrierefrei zugänglich (Treppen\, keine Aufzüge).
URL:https://atelier-siegen.de/event/offenes-atelier/
LOCATION:Atelier Siegen-Weidenau\, Austraße 34\, Siegen\, 57076\, Germany
ATTACH;FMTTYPE=image/jpeg:https://atelier-siegen.de/wp-content/uploads/2025/07/20250627_122748-Kopie-scaled-e1752572978626.jpg
END:VEVENT
END:VCALENDAR