BEGIN:VCALENDAR
VERSION:2.0
PRODID:-//Atelier Siegen - ECPv6.15.20//NONSGML v1.0//EN
CALSCALE:GREGORIAN
METHOD:PUBLISH
X-ORIGINAL-URL:https://atelier-siegen.de
X-WR-CALDESC:Veranstaltungen für Atelier Siegen
REFRESH-INTERVAL;VALUE=DURATION:PT1H
X-Robots-Tag:noindex
X-PUBLISHED-TTL:PT1H
BEGIN:VTIMEZONE
TZID:Europe/Berlin
BEGIN:DAYLIGHT
TZOFFSETFROM:+0100
TZOFFSETTO:+0200
TZNAME:CEST
DTSTART:20240331T010000
END:DAYLIGHT
BEGIN:STANDARD
TZOFFSETFROM:+0200
TZOFFSETTO:+0100
TZNAME:CET
DTSTART:20241027T010000
END:STANDARD
BEGIN:DAYLIGHT
TZOFFSETFROM:+0100
TZOFFSETTO:+0200
TZNAME:CEST
DTSTART:20250330T010000
END:DAYLIGHT
BEGIN:STANDARD
TZOFFSETFROM:+0200
TZOFFSETTO:+0100
TZNAME:CET
DTSTART:20251026T010000
END:STANDARD
BEGIN:DAYLIGHT
TZOFFSETFROM:+0100
TZOFFSETTO:+0200
TZNAME:CEST
DTSTART:20260329T010000
END:DAYLIGHT
BEGIN:STANDARD
TZOFFSETFROM:+0200
TZOFFSETTO:+0100
TZNAME:CET
DTSTART:20261025T010000
END:STANDARD
END:VTIMEZONE
BEGIN:VEVENT
DTSTART;TZID=Europe/Berlin:20250905T180000
DTEND;TZID=Europe/Berlin:20250905T210000
DTSTAMP:20260424T155437
CREATED:20250715T105002Z
LAST-MODIFIED:20250828T072904Z
UID:101-1757095200-1757106000@atelier-siegen.de
SUMMARY:Brush Hour - Struktur Abstrakt Workshop
DESCRIPTION:Raus aus dem Alltag\, rein in den Flow: Ich lade dich ein\, in entspannter Atmosphäre dein eigenes abstraktes Kunstwerk zu gestalten. \nMit Strukturen\, Schichten und freien Formen schaffst du etwas ganz Persönliches – ganz ohne Druck\, ganz ohne Vorkenntnisse. \n\nDrinks & kleine Snacks inklusive \nKreative Atmosphäre mit entspannter Musik \nAnleitung & Inspiration von Julia – kein Vorwissen nötig \nBitte denke daran\, Kleidung zu tragen\, die schmutzig werden darf – wir arbeiten mit Farben und Strukturmaterialien\, die Spuren hinterlassen können. \n👉 Hinweis: Das Atelier befindet sich in einem alten\, denkmalgeschützten Gebäude und ist leider nicht barrierefrei zugänglich (Treppen\, keine Aufzüge).
URL:https://atelier-siegen.de/event/brush-hour-struktur-abstrakt-workshop/
LOCATION:Atelier Siegen-Weidenau\, Austraße 34\, Siegen\, 57076\, Germany
ATTACH;FMTTYPE=image/jpeg:https://atelier-siegen.de/wp-content/uploads/2025/07/143-S-e1752573710619.jpg
END:VEVENT
END:VCALENDAR